BEGIN:VCALENDAR
VERSION:2.0
PRODID:-//eventon.com NONSGML v1.0//EN
CALSCALE:GREGORIAN
METHOD:PUBLISH
BEGIN:VEVENT
UID:69e766258c2da
DTSTAMP:20260421T115725Z
DTSTART:20261207T140000Z
DTEND:20261207T235000Z
LOCATION:
SUMMARY:Öffentliche Sitzung des Vorstands
DESCRIPTION:Öffentliche Sitzung des Vorstands\nhttps://www.stadtseniorenra
 tgeislingen.de/events/oeffentliche-sitzung-des-vorstands-copy-4/
URL:https://www.stadtseniorenratgeislingen.de/events/oeffentliche-sitzung-des-vorstands-copy-4/
END:VEVENT
END:VCALENDAR