BEGIN:VCALENDAR
VERSION:2.0
PRODID:-//eventon.com NONSGML v1.0//EN
CALSCALE:GREGORIAN
METHOD:PUBLISH
BEGIN:VEVENT
UID:69e9ee8ee03d7
DTSTAMP:20260423T100358Z
DTSTART:20261102T130000Z
DTEND:20261102T225000Z
LOCATION:
SUMMARY:Öffentliche Sitzung des Vorstands
DESCRIPTION:Öffentliche Sitzung des Vorstands\nhttps://www.stadtseniorenra
 tgeislingen.de/events/oeffentliche-sitzung-des-vorstands-8/
URL:https://www.stadtseniorenratgeislingen.de/events/oeffentliche-sitzung-des-vorstands-8/
END:VEVENT
END:VCALENDAR