BEGIN:VCALENDAR
VERSION:2.0
PRODID:-//eventon.com NONSGML v1.0//EN
CALSCALE:GREGORIAN
METHOD:PUBLISH
BEGIN:VEVENT
UID:69e77d7489578
DTSTAMP:20260421T133652Z
DTSTART:20261012T140000Z
DTEND:20261012T235000Z
LOCATION:
SUMMARY:Öffentliche Sitzung des Vorstands
DESCRIPTION:Öffentliche Sitzung des Vorstands\nhttps://www.stadtseniorenra
 tgeislingen.de/events/oeffentliche-sitzung-des-vorstands-7/
URL:https://www.stadtseniorenratgeislingen.de/events/oeffentliche-sitzung-des-vorstands-7/
END:VEVENT
END:VCALENDAR