BEGIN:VCALENDAR
VERSION:2.0
PRODID:-//eventon.com NONSGML v1.0//EN
CALSCALE:GREGORIAN
METHOD:PUBLISH
BEGIN:VEVENT
UID:69e77d74a4c1f
DTSTAMP:20260421T133652Z
DTSTART:20260907T140000Z
DTEND:20260907T235000Z
LOCATION:
SUMMARY:Öffentliche Sitzung des Vorstands
DESCRIPTION:Öffentliche Sitzung des Vorstands\nhttps://www.stadtseniorenra
 tgeislingen.de/events/oeffentliche-sitzung-des-vorstands-6/
URL:https://www.stadtseniorenratgeislingen.de/events/oeffentliche-sitzung-des-vorstands-6/
END:VEVENT
END:VCALENDAR