BEGIN:VCALENDAR
VERSION:2.0
PRODID:-//eventon.com NONSGML v1.0//EN
CALSCALE:GREGORIAN
METHOD:PUBLISH
BEGIN:VEVENT
UID:69e765f20f95e
DTSTAMP:20260421T115634Z
DTSTART:20260504T140000Z
DTEND:20260504T235000Z
LOCATION:
SUMMARY:Öffentliche Sitzung des Vorstands
DESCRIPTION:Öffentliche Sitzung des Vorstands\nhttps://www.stadtseniorenra
 tgeislingen.de/events/oeffentliche-sitzung-des-vorstands-copy-3/
URL:https://www.stadtseniorenratgeislingen.de/events/oeffentliche-sitzung-des-vorstands-copy-3/
END:VEVENT
END:VCALENDAR