BEGIN:VCALENDAR
VERSION:2.0
PRODID:-//eventon.com NONSGML v1.0//EN
CALSCALE:GREGORIAN
METHOD:PUBLISH
BEGIN:VEVENT
UID:69e9ee9d989b6
DTSTAMP:20260423T100413Z
DTSTART:20260625T053500Z
DTEND:20260625T215000Z
LOCATION:
SUMMARY:Kulturausfahrt nach Feuchtwangen-Kreuzgangspiele
DESCRIPTION:mit Reisebus\nhttps://www.stadtseniorenratgeislingen.de/events/
 kulturfahrt-zu-den-kreuzgangspielen-in-feuchtwangen/
URL:https://www.stadtseniorenratgeislingen.de/events/kulturfahrt-zu-den-kreuzgangspielen-in-feuchtwangen/
END:VEVENT
END:VCALENDAR